BEGIN:VCALENDAR
VERSION:2.0
PRODID:-//Cape Royal - ECPv6.15.18//NONSGML v1.0//EN
CALSCALE:GREGORIAN
METHOD:PUBLISH
X-ORIGINAL-URL:https://www.caperoyalgolfclub.com
X-WR-CALDESC:Events for Cape Royal
REFRESH-INTERVAL;VALUE=DURATION:PT1H
X-Robots-Tag:noindex
X-PUBLISHED-TTL:PT1H
BEGIN:VTIMEZONE
TZID:UTC
BEGIN:STANDARD
TZOFFSETFROM:+0000
TZOFFSETTO:+0000
TZNAME:UTC
DTSTART:20250101T000000
END:STANDARD
END:VTIMEZONE
BEGIN:VEVENT
DTSTART;TZID=UTC:20260425T160000
DTEND;TZID=UTC:20260425T200000
DTSTAMP:20260423T112820
CREATED:20260415T131258Z
LAST-MODIFIED:20260415T131302Z
UID:10000018-1777132800-1777147200@www.caperoyalgolfclub.com
SUMMARY:Prime Rib Night
DESCRIPTION:You’re invited to a special Prime Rib Night at the Caloosa Club! \n\n\n\nSaturday\, April 25th \n\n\n\n$27++ per person includes: \n\n\n\nChoice of soup or side salad \n\n\n\n12 oz. freshly sliced Prime Rib \n\n\n\nGarlic Mashed Potatoes \n\n\n\nChef’s Vegetable \n\n\n\nReservation’s are required. Call 239.283.5522 ext. 2 to make your reservation today!
URL:https://www.caperoyalgolfclub.com/event/prime-rib-night/
LOCATION:Cape Royal Golf Club\, 11460 Royal Tee Circle\, Cape Coral\, Florida\, 33991\, United States
END:VEVENT
END:VCALENDAR